Workbook

Sheet tableau des calories
A1: JOURNAL ALIMENTAIRE QUOTIDIEN
A3: Nom: | B3: XYZ | D3: Nom du jour | E3: Dimanche | G3: POIDS (kg) | H3: 78
A5: HEURE | B5: DATE | C5: QTÉ | D5: Manger | E5: Calories | F5: Glucides | G5: Sucre | H5: Graisse
B6: 45754 | C6: 2 | D6: Muesli froid | E6: =+IFERROR(INDEX(Table1[Calories],MATCH('tableau des calories'!D6,Table1[Manger],0)),0)*C6 -> 600 | F6: =+IFERROR(INDEX(Table1[Glucides],MATCH('tableau des calories'!D6,Table1[Manger],0)),0)*2 -> 88 | G6: =+IFERROR(INDEX(Table1[Sucre],MATCH('tableau des calories'!D6,Table1[Manger],0)),0)*2 -> 36 | H6: =+IFERROR(INDEX(Table1[Graisse],MATCH('tableau des calories'!D6,Table1[Manger],0)),0)*2 -> 6
B7: 45811 | C7: 2 | D7: Pomme | E7: =+IFERROR(INDEX(Table1[Calories],MATCH('tableau des calories'!D7,Table1[Manger],0)),0)*C7 -> 190 | F7: =+IFERROR(INDEX(Table1[Glucides],MATCH('tableau des calories'!D7,Table1[Manger],0)),0)*2 -> 50 | G7: =+IFERROR(INDEX(Table1[Sucre],MATCH('tableau des calories'!D7,Table1[Manger],0)),0)*2 -> 38 | H7: =+IFERROR(INDEX(Table1[Graisse],MATCH('tableau des calories'!D7,Table1[Manger],0)),0)*2 -> 0
B8: 45868 | C8: 3 | D8: Orange | E8: =+IFERROR(INDEX(Table1[Calories],MATCH('tableau des calories'!D8,Table1[Manger],0)),0)*C8 -> 141 | F8: =+IFERROR(INDEX(Table1[Glucides],MATCH('tableau des calories'!D8,Table1[Manger],0)),0)*2 -> 24 | G8: =+IFERROR(INDEX(Table1[Sucre],MATCH('tableau des calories'!D8,Table1[Manger],0)),0)*2 -> 19 | H8: =+IFERROR(INDEX(Table1[Graisse],MATCH('tableau des calories'!D8,Table1[Manger],0)),0)*2 -> 0.2
B9: 45925 | C9: 2 | D9: Banane | E9: =+IFERROR(INDEX(Table1[Calories],MATCH('tableau des calories'!D9,Table1[Manger],0)),0)*C9 -> 210 | F9: =+IFERROR(INDEX(Table1[Glucides],MATCH('tableau des calories'!D9,Table1[Manger],0)),0)*2 -> 54 | G9: =+IFERROR(INDEX(Table1[Sucre],MATCH('tableau des calories'!D9,Table1[Manger],0)),0)*2 -> 28 | H9: =+IFERROR(INDEX(Table1[Graisse],MATCH('tableau des calories'!D9,Table1[Manger],0)),0)*2 -> 0.8
E10: =+IFERROR(INDEX(Table1[Calories],MATCH('tableau des calories'!D10,Table1[Manger],0)),0)*C10 -> 0 | F10: =+IFERROR(INDEX(Table1[Glucides],MATCH('tableau des calories'!D10,Table1[Manger],0)),0)*2 -> 0 | G10: =+IFERROR(INDEX(Table1[Sucre],MATCH('tableau des calories'!D10,Table1[Manger],0)),0)*2 -> 0 | H10: =+IFERROR(INDEX(Table1[Graisse],MATCH('tableau des calories'!D10,Table1[Manger],0)),0)*2 -> 0
E11: =+IFERROR(INDEX(Table1[Calories],MATCH('tableau des calories'!D11,Table1[Manger],0)),0)*C11 -> 0 | F11: =+IFERROR(INDEX(Table1[Glucides],MATCH('tableau des calories'!D11,Table1[Manger],0)),0)*2 -> 0 | G11: =+IFERROR(INDEX(Table1[Sucre],MATCH('tableau des calories'!D11,Table1[Manger],0)),0)*2 -> 0 | H11: =+IFERROR(INDEX(Table1[Graisse],MATCH('tableau des calories'!D11,Table1[Manger],0)),0)*2 -> 0
E12: =+IFERROR(INDEX(Table1[Calories],MATCH('tableau des calories'!D12,Table1[Manger],0)),0)*C12 -> 0 | F12: =+IFERROR(INDEX(Table1[Glucides],MATCH('tableau des calories'!D12,Table1[Manger],0)),0)*2 -> 0 | G12: =+IFERROR(INDEX(Table1[Sucre],MATCH('tableau des calories'!D12,Table1[Manger],0)),0)*2 -> 0 | H12: =+IFERROR(INDEX(Table1[Graisse],MATCH('tableau des calories'!D12,Table1[Manger],0)),0)*2 -> 0
E13: =+IFERROR(INDEX(Table1[Calories],MATCH('tableau des calories'!D13,Table1[Manger],0)),0)*C13 -> 0 | F13: =+IFERROR(INDEX(Table1[Glucides],MATCH('tableau des calories'!D13,Table1[Manger],0)),0)*2 -> 0 | G13: =+IFERROR(INDEX(Table1[Sucre],MATCH('tableau des calories'!D13,Table1[Manger],0)),0)*2 -> 0 | H13: =+IFERROR(INDEX(Table1[Graisse],MATCH('tableau des calories'!D13,Table1[Manger],0)),0)*2 -> 0
E14: =+IFERROR(INDEX(Table1[Calories],MATCH('tableau des calories'!D14,Table1[Manger],0)),0)*C14 -> 0 | F14: =+IFERROR(INDEX(Table1[Glucides],MATCH('tableau des calories'!D14,Table1[Manger],0)),0)*2 -> 0 | G14: =+IFERROR(INDEX(Table1[Sucre],MATCH('tableau des calories'!D14,Table1[Manger],0)),0)*2 -> 0 | H14: =+IFERROR(INDEX(Table1[Graisse],MATCH('tableau des calories'!D14,Table1[Manger],0)),0)*2 -> 0
E15: =+IFERROR(INDEX(Table1[Calories],MATCH('tableau des calories'!D15,Table1[Manger],0)),0)*C15 -> 0 | F15: =+IFERROR(INDEX(Table1[Glucides],MATCH('tableau des calories'!D15,Table1[Manger],0)),0)*2 -> 0 | G15: =+IFERROR(INDEX(Table1[Sucre],MATCH('tableau des calories'!D15,Table1[Manger],0)),0)*2 -> 0 | H15: =+IFERROR(INDEX(Table1[Graisse],MATCH('tableau des calories'!D15,Table1[Manger],0)),0)*2 -> 0
E16: =+IFERROR(INDEX(Table1[Calories],MATCH('tableau des calories'!D16,Table1[Manger],0)),0)*C16 -> 0 | F16: =+IFERROR(INDEX(Table1[Glucides],MATCH('tableau des calories'!D16,Table1[Manger],0)),0)*2 -> 0 | G16: =+IFERROR(INDEX(Table1[Sucre],MATCH('tableau des calories'!D16,Table1[Manger],0)),0)*2 -> 0 | H16: =+IFERROR(INDEX(Table1[Graisse],MATCH('tableau des calories'!D16,Table1[Manger],0)),0)*2 -> 0
E17: =+IFERROR(INDEX(Table1[Calories],MATCH('tableau des calories'!D17,Table1[Manger],0)),0)*C17 -> 0 | F17: =+IFERROR(INDEX(Table1[Glucides],MATCH('tableau des calories'!D17,Table1[Manger],0)),0)*2 -> 0 | G17: =+IFERROR(INDEX(Table1[Sucre],MATCH('tableau des calories'!D17,Table1[Manger],0)),0)*2 -> 0 | H17: =+IFERROR(INDEX(Table1[Graisse],MATCH('tableau des calories'!D17,Table1[Manger],0)),0)*2 -> 0
E18: =+IFERROR(INDEX(Table1[Calories],MATCH('tableau des calories'!D18,Table1[Manger],0)),0)*C18 -> 0 | F18: =+IFERROR(INDEX(Table1[Glucides],MATCH('tableau des calories'!D18,Table1[Manger],0)),0)*2 -> 0 | G18: =+IFERROR(INDEX(Table1[Sucre],MATCH('tableau des calories'!D18,Table1[Manger],0)),0)*2 -> 0 | H18: =+IFERROR(INDEX(Table1[Graisse],MATCH('tableau des calories'!D18,Table1[Manger],0)),0)*2 -> 0
E19: =+IFERROR(INDEX(Table1[Calories],MATCH('tableau des calories'!D19,Table1[Manger],0)),0)*C19 -> 0 | F19: =+IFERROR(INDEX(Table1[Glucides],MATCH('tableau des calories'!D19,Table1[Manger],0)),0)*2 -> 0 | G19: =+IFERROR(INDEX(Table1[Sucre],MATCH('tableau des calories'!D19,Table1[Manger],0)),0)*2 -> 0 | H19: =+IFERROR(INDEX(Table1[Graisse],MATCH('tableau des calories'!D19,Table1[Manger],0)),0)*2 -> 0
E20: =+IFERROR(INDEX(Table1[Calories],MATCH('tableau des calories'!D20,Table1[Manger],0)),0)*C20 -> 0 | F20: =+IFERROR(INDEX(Table1[Glucides],MATCH('tableau des calories'!D20,Table1[Manger],0)),0)*2 -> 0 | G20: =+IFERROR(INDEX(Table1[Sucre],MATCH('tableau des calories'!D20,Table1[Manger],0)),0)*2 -> 0 | H20: =+IFERROR(INDEX(Table1[Graisse],MATCH('tableau des calories'!D20,Table1[Manger],0)),0)*2 -> 0
E21: =+IFERROR(INDEX(Table1[Calories],MATCH('tableau des calories'!D21,Table1[Manger],0)),0)*C21 -> 0 | F21: =+IFERROR(INDEX(Table1[Glucides],MATCH('tableau des calories'!D21,Table1[Manger],0)),0)*2 -> 0 | G21: =+IFERROR(INDEX(Table1[Sucre],MATCH('tableau des calories'!D21,Table1[Manger],0)),0)*2 -> 0 | H21: =+IFERROR(INDEX(Table1[Graisse],MATCH('tableau des calories'!D21,Table1[Manger],0)),0)*2 -> 0
E22: =+IFERROR(INDEX(Table1[Calories],MATCH('tableau des calories'!D22,Table1[Manger],0)),0)*C22 -> 0 | F22: =+IFERROR(INDEX(Table1[Glucides],MATCH('tableau des calories'!D22,Table1[Manger],0)),0)*2 -> 0 | G22: =+IFERROR(INDEX(Table1[Sucre],MATCH('tableau des calories'!D22,Table1[Manger],0)),0)*2 -> 0 | H22: =+IFERROR(INDEX(Table1[Graisse],MATCH('tableau des calories'!D22,Table1[Manger],0)),0)*2 -> 0
A23: Total | E23: =SUBTOTAL(109,E6:E22) -> 1141 | F23: =SUBTOTAL(109,F6:F22) -> 216 | G23: =SUBTOTAL(109,G6:G22) -> 121 | H23: =SUBTOTAL(109,H6:H22) -> 7

Sheet MANGER
A1: DÉTAILS DE L’ALIMENT
A2: Manger | B2: Kit universel | C2: Calories | D2: Glucides | E2: Sucre | F2: Graisse | G2: Sodium | H2: Protéine | I2: Notes
A3: Muesli froid | B3: 1 | C3: 300 | D3: 44 | E3: 18 | F3: 3 | G3: 0.32 | H3: 4 | I3: 1 1/2 Tassen, 1 Tasse Magermilch
A4: Pomme | B4: 1 | C4: 95 | D4: 25 | E4: 19 | F4: 0 | G4: 0.002 | H4: 0.5 | I4: 1 pomme moyenne (182 g, 3 pouces)
A5: Orange | B5: 1 | C5: 47 | D5: 12 | E5: 9.5 | F5: 0.1 | G5: 0 | H5: 0.9 | I5: 1 orange moyenne (100g)
A6: Banane | B6: 1 | C6: 105 | D6: 27 | E6: 14 | F6: 0.4 | G6: 0.001 | H6: 1.3 | I6: 1 banane moyenne (118g, 7")
